BEGIN:VCALENDAR
VERSION:2.0
CALSCALE:GREGORIAN
PRODID:adamgibbons/ics
METHOD:PUBLISH
X-PUBLISHED-TTL:PT1H
BEGIN:VEVENT
UID:270@calendarte.illustietor.com
SUMMARY:Baena GO! 2026
DTSTAMP:20260420T022719Z
DTSTART:20260425T090000Z
DTEND:20260426T180000Z
URL:https://calendarte.illustietor.com/event/baena-go-2026
GEO:37.6174;-4.31994
LOCATION:Caseta Municipal de Baena - 37.6176194256803\, -4.3199322682943855
STATUS:CONFIRMED
CATEGORIES:Andalucía,Artist Alley,Baena,Córdoba,Cultura alternativa,Entrada
	 libre,España,EventosGO,Manganime,Salón del manga,Videojuegos
END:VEVENT
BEGIN:VEVENT
UID:276@calendarte.illustietor.com
SUMMARY:La Laguna es Cómic: 3ª Feria Internacional del Manga y el Tebeo
DTSTAMP:20260420T022719Z
DTSTART:20260508T080000Z
DTEND:20260510T180000Z
URL:https://calendarte.illustietor.com/event/la-laguna-es-comic-3a-feria-in
	ternacional-del-manga-y-el-tebeo
GEO:28.4875;-16.3135
LOCATION:Plaza del Adelantado - Conjunto Histórico de la Ciudad de San Cris
	tóbal de La Laguna\, Camino el Vallado\, San Honorato\, San Cristóbal de L
	a Laguna\, Santa Cruz de Tenerife\, Canarias\, 38206\, España
STATUS:CONFIRMED
CATEGORIES:Canarias,Cómic,Entrada libre,España,Manganime,Santa Cruz de Tene
	rife
END:VEVENT
BEGIN:VEVENT
UID:269@calendarte.illustietor.com
SUMMARY:Almuñecar GO! 2026
DTSTAMP:20260420T022719Z
DTSTART:20260516T090000Z
DTEND:20260517T180000Z
URL:https://calendarte.illustietor.com/event/almunecar-go-2026
GEO:36.7315;-3.69393
LOCATION:Parque El Majuelo - Factoría de Salazones de Pescado El Majuelo\, 
	Calle Nueva\, Centro Historico\, Almuñécar\, Comarca de la Costa Granadina
	\, Granada\, Andalucía\, 18690\, España
STATUS:CONFIRMED
CATEGORIES:Almuñecar,Andalucía,Artist Alley,Cultura alternativa,Entrada lib
	re,España,EventosGO,Granada,Manganime,Salón del manga,Videojuegos
END:VEVENT
BEGIN:VEVENT
UID:279@calendarte.illustietor.com
SUMMARY:Oh! Comics Fest Logroño 2026
DTSTAMP:20260420T022719Z
DTSTART:20260522T140000Z
DTEND:20260523T215900Z
URL:https://calendarte.illustietor.com/event/oh-comics-fest-logrono-2026
GEO:42.466;-2.45
LOCATION:La Gota de Leche (Espacio Cultura Joven) - La Gota de Leche\, 2\, 
	Calle Once de Junio\, Casco Antiguo\, Las Gaunas\, Logroño\, La Rioja\, 26
	002\, España
STATUS:CONFIRMED
CATEGORIES:Artist Alley,Autoedición,Cómic,Entrada libre,España,Fanzine,Ilus
	tración,La Rioja,Logroño
END:VEVENT
BEGIN:VEVENT
UID:280@calendarte.illustietor.com
SUMMARY:15ª Jornadas del Cómic de Valencia
DTSTAMP:20260420T022719Z
DTSTART:20260522T150000Z
DTEND:20260524T215900Z
URL:https://calendarte.illustietor.com/event/15a-jornadas-del-comic-de-vale
	ncia
GEO:39.472;-0.372708
LOCATION:Centro Cultural La Nau - 2\, Carrer de la Universitat\, la Xerea\,
	 Ciutat Vella\, València\, Comarca de València\, València / Valencia\, Com
	unitat Valenciana\, 46003\, España
STATUS:CONFIRMED
CATEGORIES:Artist Alley,Asovalcom,Cómic,Comunidad Valenciana,Entrada libre,
	España,Jornada,Valencia
END:VEVENT
BEGIN:VEVENT
UID:271@calendarte.illustietor.com
SUMMARY:Hellín GO! 2026
DTSTAMP:20260420T022719Z
DTSTART:20260523T090000Z
DTEND:20260523T180000Z
URL:https://calendarte.illustietor.com/event/hellin-go-2026
GEO:38.5067;-1.69826
LOCATION:Parque Municipal Vicente Garaulet Sequero - Avenida Castilla-La Ma
	ncha\, Hellín\, Albacete\, Castilla-La Mancha\, 02400\, España
STATUS:CONFIRMED
CATEGORIES:Albacete,Artist Alley,Cultura alternativa,Entrada libre,España,E
	ventosGO,Hellín,Manganime,Salón del manga,Videojuegos
END:VEVENT
BEGIN:VEVENT
UID:272@calendarte.illustietor.com
SUMMARY:Martos GO! 2026
DTSTAMP:20260420T022719Z
DTSTART:20260606T090000Z
DTEND:20260606T180000Z
URL:https://calendarte.illustietor.com/event/rinconada-go-2026-1
GEO:37.719;-3.97474
LOCATION:Casa de la Juventud de Martos - Avenida Pierre Cibié\, Martos\, Ja
	én\, Andalucía\, 23600\, España
STATUS:CONFIRMED
CATEGORIES:Andalucía,Artist Alley,Cultura alternativa,Entrada libre,España,
	EventosGO,Jaén,Manganime,Martos,Salón del manga,Videojuegos
END:VEVENT
BEGIN:VEVENT
UID:252@calendarte.illustietor.com
SUMMARY:Salón Friky Alicante 2026
DTSTAMP:20260420T022719Z
DTSTART:20260612T080000Z
DTEND:20260613T215900Z
URL:https://calendarte.illustietor.com/event/salon-friky-alicante-2026
GEO:38.3526;-0.481403
LOCATION:Las Cigarreras - Carrer de Sant Carles / Calle San Carlos\, Santa 
	Creu\, les Carolines Baixes\, Alacant / Alicante\, l'Alacantí\, Alacant / 
	Alicante\, Comunitat Valenciana\, 03013\, España
STATUS:CONFIRMED
CATEGORIES:Alicante,Artist Alley,Comunidad Valenciana,Cultura friki,Entrada
	 libre,España,Manganime
END:VEVENT
BEGIN:VEVENT
UID:281@calendarte.illustietor.com
SUMMARY:FEMANCA 2026
DTSTAMP:20260420T022719Z
DTSTART:20260904T150000Z
DTEND:20260906T180000Z
URL:https://calendarte.illustietor.com/event/femanca-2026
GEO:36.5151;-6.28302
LOCATION:Colegio San Felipe Neri - Colegio San Felipe Neri
STATUS:CONFIRMED
CATEGORIES:Andalucía,Artist Alley,Cádiz,Entrada libre,España,Festival,Manga
	nime
END:VEVENT
BEGIN:VEVENT
UID:288@calendarte.illustietor.com
SUMMARY:Qomic Boom 2026
DTSTAMP:20260420T022719Z
DTSTART:20260905T080000Z
DTEND:20260906T215900Z
URL:https://calendarte.illustietor.com/event/qomic-boom-2026
GEO:41.3793;2.12779
LOCATION:Centro Cívico Joan Oliver "Pere Quart" - 6\, Carrer del Comandant 
	Benítez\, la Maternitat i Sant Ramon\, les Corts\, Barcelona\, Barcelonès\
	, Barcelona\, Catalunya\, 08028\, España
STATUS:CONFIRMED
CATEGORIES:Artist Alley,Autoedición,Barcelona,Cataluña,Cómic,Entrada libre,
	España,Ilustración
END:VEVENT
BEGIN:VEVENT
UID:258@calendarte.illustietor.com
SUMMARY:Oh! Comics Fest Barcelona 2026
DTSTAMP:20260420T022719Z
DTSTART:20261002T140000Z
DTEND:20261004T215900Z
URL:https://calendarte.illustietor.com/event/oh-comics-fest-barcelona-2026
GEO:41.4377;2.19113
LOCATION:Barrio Sant Andreu de Barcelona - Carrer de Joan Torras\, Sant And
	reu de Palomar\, Sant Andreu\, Barcelona\, Barcelonès\, Barcelona\, Catalu
	nya\, 08030\, España
STATUS:CONFIRMED
CATEGORIES:Artist Alley,Autoedición,Barcelona,Cataluña,Cómic,Entrada libre,
	España,Fanzine,Ilustración
END:VEVENT
END:VCALENDAR
